BEGIN:VCALENDAR
VERSION:2.0
PRODID:-//wp-events-plugin.com//7.2.3.1//EN
BEGIN:VEVENT
UID:26@nygemenskap.org
DTSTART:20251023T130000Z
DTEND:20251023T160000Z
DTSTAMP:20250626T092802Z
URL:https://nygemenskap.org/events/musikcafe-blues-etc/
SUMMARY:Musikcafé Blues etc
DESCRIPTION:
END:VEVENT
END:VCALENDAR