BEGIN:VCALENDAR
VERSION:2.0
PRODID:-//wp-events-plugin.com//7.2.3.1//EN
BEGIN:VEVENT
UID:22@nygemenskap.org
DTSTART:20250925T130000Z
DTEND:20250925T160000Z
DTSTAMP:20250626T092317Z
URL:https://nygemenskap.org/events/musikcafe-elins-backe/
SUMMARY:Musikcafé  “Elins Backe”
DESCRIPTION:
END:VEVENT
END:VCALENDAR