BEGIN:VCALENDAR
VERSION:2.0
PRODID:-//wp-events-plugin.com//7.2.3.1//EN
BEGIN:VEVENT
UID:25@nygemenskap.org
DTSTART:20251016T130000Z
DTEND:20251016T160000Z
DTSTAMP:20250626T092659Z
URL:https://nygemenskap.org/events/musikcafe-kjellakes-kaj-med-rolf/
SUMMARY:Musikcafé  “KjellÅkes Kaj med Rolf”
DESCRIPTION:
END:VEVENT
END:VCALENDAR