BEGIN:VCALENDAR
VERSION:2.0
PRODID:-//wp-events-plugin.com//7.2.3.1//EN
BEGIN:VEVENT
UID:23@nygemenskap.org
DTSTART:20251002T130000Z
DTEND:20251002T160000Z
DTSTAMP:20250626T092422Z
URL:https://nygemenskap.org/events/musikcafe-snibor-4-saxar-med-eva-blom/
SUMMARY:Musikcafé “Snibor” 4 Saxar med Eva Blom
DESCRIPTION:
END:VEVENT
END:VCALENDAR