BEGIN:VCALENDAR
VERSION:2.0
PRODID:-//wp-events-plugin.com//7.2.3.1//EN
BEGIN:VEVENT
UID:29@nygemenskap.org
DTSTART:20251120T130000Z
DTEND:20251120T160000Z
DTSTAMP:20250626T093312Z
URL:https://nygemenskap.org/events/musikcafe-sten-flader-trio/
SUMMARY:Musikcafé “Sten Fläder Trio”
DESCRIPTION:
END:VEVENT
END:VCALENDAR