BEGIN:VCALENDAR
VERSION:2.0
PRODID:-//wp-events-plugin.com//7.2.3.1//EN
BEGIN:VEVENT
UID:27@nygemenskap.org
DTSTART:20251030T130000Z
DTEND:20251030T160000Z
DTSTAMP:20250626T092917Z
URL:https://nygemenskap.org/events/musikcafe-stina-stensland-band/
SUMMARY:Musikcafé “Stina Stensland Band”
DESCRIPTION:
END:VEVENT
END:VCALENDAR